BEGIN:VCALENDAR
VERSION:2.0
PRODID:-//eventon.com NONSGML v1.0//EN
CALSCALE:GREGORIAN
METHOD:PUBLISH
BEGIN:VEVENT
UID:69e5ed9ff1609
DTSTAMP:20260420T091055Z
DTSTART:20230828T150200Z
DTEND:20230828T150200Z
LOCATION:
SUMMARY:August Bank Holiday
DESCRIPTION:\nhttps://www-staging.esher.ac.uk/events/august-bank-holiday/
URL:https://www-staging.esher.ac.uk/events/august-bank-holiday/
END:VEVENT
END:VCALENDAR