BEGIN:VCALENDAR
VERSION:2.0
PRODID:-//eventon.com NONSGML v1.0//EN
CALSCALE:GREGORIAN
METHOD:PUBLISH
BEGIN:VEVENT
UID:69e5ff26474fd
DTSTAMP:20260420T102542Z
DTSTART:20231023
DTEND:20231024
LOCATION:
SUMMARY:Half Term
DESCRIPTION:\nhttps://www-staging.esher.ac.uk/events/half-term-3/
URL:https://www-staging.esher.ac.uk/events/half-term-3/
END:VEVENT
END:VCALENDAR