BEGIN:VCALENDAR
VERSION:2.0
PRODID:-//eventon.com NONSGML v1.0//EN
CALSCALE:GREGORIAN
METHOD:PUBLISH
BEGIN:VEVENT
UID:69e76eac9c7d5
DTSTAMP:20260421T123348Z
DTSTART:20230627
DTEND:20230628
LOCATION:
SUMMARY:After Esher Day
DESCRIPTION:\nhttps://www-staging.esher.ac.uk/events/after-esher-day/
URL:https://www-staging.esher.ac.uk/events/after-esher-day/
END:VEVENT
END:VCALENDAR