BEGIN:VCALENDAR
VERSION:2.0
PRODID:-//eventon.com NONSGML v1.0//EN
CALSCALE:GREGORIAN
METHOD:PUBLISH
BEGIN:VEVENT
UID:69e6032924e99
DTSTAMP:20260420T104249Z
DTSTART:20231220
DTEND:20231221
LOCATION:
SUMMARY:End of Term
DESCRIPTION:\nhttps://www-staging.esher.ac.uk/events/end-of-term-3/
URL:https://www-staging.esher.ac.uk/events/end-of-term-3/
END:VEVENT
END:VCALENDAR