BEGIN:VCALENDAR
VERSION:2.0
PRODID:-//eventon.com NONSGML v1.0//EN
CALSCALE:GREGORIAN
METHOD:PUBLISH
BEGIN:VEVENT
UID:69e5e954bfdb2
DTSTAMP:20260420T085236Z
DTSTART:20230920T130000Z
DTEND:20230920T150000Z
LOCATION:Esher Sixth Form College Weston Green Road
SUMMARY:Men's Football\,  Women's Football\,  Men's Rugby\,  Women's Netball\,  Basketball & Hockey
DESCRIPTION:Men&#8217;s football (1\, 2\, 3\, 4)\,  Women&#8217;s football\
 ,  Men&#8217;s rugby\,  Netball (1\, 2) \,  Basketball\,  Hockey\nhttps://w
 ww-staging.esher.ac.uk/events/mens-football-womens-football-mens-rugby-wome
 ns-netball-basketball-hockey/
URL:https://www-staging.esher.ac.uk/events/mens-football-womens-football-mens-rugby-womens-netball-basketball-hockey/
END:VEVENT
END:VCALENDAR