BEGIN:VCALENDAR
VERSION:2.0
PRODID:-//eventon.com NONSGML v1.0//EN
CALSCALE:GREGORIAN
METHOD:PUBLISH
BEGIN:VEVENT
UID:69e5ffe503505
DTSTAMP:20260420T102853Z
DTSTART:20231116T170000Z
DTEND:20231116T203000Z
LOCATION:
SUMMARY:Parents' Evening - 1
DESCRIPTION:\nhttps://www-staging.esher.ac.uk/events/parents-evening/
URL:https://www-staging.esher.ac.uk/events/parents-evening/
END:VEVENT
END:VCALENDAR