BEGIN:VCALENDAR
VERSION:2.0
PRODID:-//eventon.com NONSGML v1.0//EN
CALSCALE:GREGORIAN
METHOD:PUBLISH
BEGIN:VEVENT
UID:69e92ceda680e
DTSTAMP:20260422T201749Z
DTSTART:20240321
DTEND:20240322
LOCATION:
SUMMARY:Higher Education day
DESCRIPTION:\nhttps://www-staging.esher.ac.uk/events/higher-education-day/
URL:https://www-staging.esher.ac.uk/events/higher-education-day/
END:VEVENT
END:VCALENDAR